BEGIN:VCALENDAR
VERSION:2.0
PRODID:-//eternalHealth - ECPv6.15.17.1//NONSGML v1.0//EN
CALSCALE:GREGORIAN
METHOD:PUBLISH
X-ORIGINAL-URL:https://www.eternalhealth.com
X-WR-CALDESC:Events for eternalHealth
REFRESH-INTERVAL;VALUE=DURATION:PT1H
X-Robots-Tag:noindex
X-PUBLISHED-TTL:PT1H
BEGIN:VTIMEZONE
TZID:America/Phoenix
BEGIN:STANDARD
TZOFFSETFROM:-0700
TZOFFSETTO:-0700
TZNAME:MST
DTSTART:20230101T000000
END:STANDARD
END:VTIMEZONE
BEGIN:VTIMEZONE
TZID:UTC
BEGIN:STANDARD
TZOFFSETFROM:+0000
TZOFFSETTO:+0000
TZNAME:UTC
DTSTART:20230101T000000
END:STANDARD
END:VTIMEZONE
BEGIN:VTIMEZONE
TZID:America/New_York
BEGIN:DAYLIGHT
TZOFFSETFROM:-0500
TZOFFSETTO:-0400
TZNAME:EDT
DTSTART:20230312T070000
END:DAYLIGHT
BEGIN:STANDARD
TZOFFSETFROM:-0400
TZOFFSETTO:-0500
TZNAME:EST
DTSTART:20231105T060000
END:STANDARD
BEGIN:DAYLIGHT
TZOFFSETFROM:-0500
TZOFFSETTO:-0400
TZNAME:EDT
DTSTART:20240310T070000
END:DAYLIGHT
BEGIN:STANDARD
TZOFFSETFROM:-0400
TZOFFSETTO:-0500
TZNAME:EST
DTSTART:20241103T060000
END:STANDARD
BEGIN:DAYLIGHT
TZOFFSETFROM:-0500
TZOFFSETTO:-0400
TZNAME:EDT
DTSTART:20250309T070000
END:DAYLIGHT
BEGIN:STANDARD
TZOFFSETFROM:-0400
TZOFFSETTO:-0500
TZNAME:EST
DTSTART:20251102T060000
END:STANDARD
END:VTIMEZONE
BEGIN:VEVENT
DTSTART;TZID=America/Phoenix:20240830T133000
DTEND;TZID=America/Phoenix:20240830T153000
DTSTAMP:20260422T124100
CREATED:20240717T180038Z
LAST-MODIFIED:20240717T180038Z
UID:10000544-1725024600-1725031800@www.eternalhealth.com
SUMMARY:eternalHealth 2025 Broker Rollout- Maricopa County- August 30\, 2024
DESCRIPTION:RSVP today! Come and discover the new benefits eternalHealth will offer for the Plan Year 2025! This is your opportunity to learn about the upcoming benefits and meet the eternalHealth team. Food and drink will be provided! \n  \nLearn more about: \n\neternalHealth’s 2025 Benefits\nTools and resources\nMarketing opportunities\nAgent support\nand more!
URL:https://www.eternalhealth.com/calendar/eternalhealth-2025-broker-rollout-maricopa-county-august-30-2024/
LOCATION:Talking Stick Resort\, 9800 E Talking Stick Way\, Scottsdale\, AZ\, 85256\, United States
CATEGORIES:Arizona Broker Events
ORGANIZER;CN="eternalHealth":MAILTO:info@eternalhealth.com
END:VEVENT
BEGIN:VEVENT
DTSTART;TZID=UTC:20240823T090000
DTEND;TZID=UTC:20240823T100000
DTSTAMP:20260422T124100
CREATED:20240701T162305Z
LAST-MODIFIED:20240701T162404Z
UID:10000532-1724403600-1724407200@www.eternalhealth.com
SUMMARY:eternalHealth Certification Training 2025
DESCRIPTION:Learn how to become Ready to Sell with eternalHealth for 2025 using our Certification Portal\n\n\n\n  \n\n\n\nJoin the meeting now
URL:https://www.eternalhealth.com/calendar/eternalhealth-certification-training-2025-18/
LOCATION:Webinar
CATEGORIES:Arizona Broker Events
ORGANIZER;CN="eternalHealth":MAILTO:info@eternalhealth.com
END:VEVENT
BEGIN:VEVENT
DTSTART;TZID=UTC:20240823T080000
DTEND;TZID=UTC:20240823T090000
DTSTAMP:20260422T124100
CREATED:20240701T162040Z
LAST-MODIFIED:20240701T162040Z
UID:10000531-1724400000-1724403600@www.eternalhealth.com
SUMMARY:Virtual First Look 2025 - AZ
DESCRIPTION:Get your First Look into eternalHealth’s competitive 2025 Plan Benefits\n\n\n\n  \n\n\n\nJoin the meeting now
URL:https://www.eternalhealth.com/calendar/virtual-first-look-2025-az-5/
LOCATION:Webinar
CATEGORIES:Arizona Broker Events
ORGANIZER;CN="eternalHealth":MAILTO:info@eternalhealth.com
END:VEVENT
BEGIN:VEVENT
DTSTART;TZID=UTC:20240820T090000
DTEND;TZID=UTC:20240820T100000
DTSTAMP:20260422T124100
CREATED:20240701T161347Z
LAST-MODIFIED:20240701T161347Z
UID:10000528-1724144400-1724148000@www.eternalhealth.com
SUMMARY:eternalHealth Broker Resources
DESCRIPTION:Learn how to:\n– Look up Dotctor\n– Prescriptions\n– Application Status\n– Commission\n– Submit Electronic Enrollments\n– Order Enrollment Kits\n– Marketing Materials\n– and MORE\n\n\n\n  \n\n\n\nJoin the meeting now 
URL:https://www.eternalhealth.com/calendar/eternalhealth-broker-resources-6/
LOCATION:Webinar
CATEGORIES:Arizona Broker Events
ORGANIZER;CN="eternalHealth":MAILTO:info@eternalhealth.com
END:VEVENT
BEGIN:VEVENT
DTSTART;TZID=America/Phoenix:20240816T090000
DTEND;TZID=America/Phoenix:20240816T100000
DTSTAMP:20260422T124100
CREATED:20240701T160957Z
LAST-MODIFIED:20240701T161022Z
UID:10000526-1723798800-1723802400@www.eternalhealth.com
SUMMARY:eternalHealth Certification Training 2025
DESCRIPTION:Learn how to become Ready to Sell with eternalHealth for 2025 using our Certification Portal\n\n\n\n  \n\n\n\nJoin the meeting now
URL:https://www.eternalhealth.com/calendar/eternalhealth-certification-training-2025-15/
LOCATION:Webinar
CATEGORIES:Arizona Broker Events
ORGANIZER;CN="eternalHealth":MAILTO:info@eternalhealth.com
END:VEVENT
BEGIN:VEVENT
DTSTART;TZID=America/Phoenix:20240814T083000
DTEND;TZID=America/Phoenix:20240814T093000
DTSTAMP:20260422T124100
CREATED:20240701T160714Z
LAST-MODIFIED:20240701T160714Z
UID:10000524-1723624200-1723627800@www.eternalhealth.com
SUMMARY:eternalHealth Broker Resources
DESCRIPTION:Learn how to:\n– Look up Dotctor\n– Prescriptions\n– Application Status\n– Commission\n– Submit Electronic Enrollments\n– Order Enrollment Kits\n– Marketing Materials\n– and MORE\n\n\n\n  \n\n\n\nJoin the meeting now \n\n\n\n 
URL:https://www.eternalhealth.com/calendar/eternalhealth-broker-resources-4/
LOCATION:Webinar
CATEGORIES:Arizona Broker Events
ORGANIZER;CN="eternalHealth":MAILTO:info@eternalhealth.com
END:VEVENT
BEGIN:VEVENT
DTSTART;TZID=America/New_York:20240813T130000
DTEND;TZID=America/New_York:20240813T140000
DTSTAMP:20260422T124100
CREATED:20240701T160508Z
LAST-MODIFIED:20240701T160508Z
UID:10000523-1723554000-1723557600@www.eternalhealth.com
SUMMARY:eternalHealth Certification Training 2025
DESCRIPTION:Learn how to become Ready to Sell with eternalHealth for 2025 using our Certification Portal\n\n\n\n  \n\n\n\nJoin the meeting now
URL:https://www.eternalhealth.com/calendar/eternalhealth-certification-training-2025-14/
LOCATION:Webinar
CATEGORIES:Arizona Broker Events
ORGANIZER;CN="eternalHealth":MAILTO:info@eternalhealth.com
END:VEVENT
BEGIN:VEVENT
DTSTART;TZID=America/Phoenix:20240812T120000
DTEND;TZID=America/Phoenix:20240812T130000
DTSTAMP:20260422T124100
CREATED:20240701T160013Z
LAST-MODIFIED:20240701T160013Z
UID:10000520-1723464000-1723467600@www.eternalhealth.com
SUMMARY:Virtual First Look 2025 - AZ
DESCRIPTION:Get your First Look into eternalHealth’s competitive 2025 Plan Benefits\n\n\n\n  \n\n\n\nJoin the meeting now 
URL:https://www.eternalhealth.com/calendar/virtual-first-look-2025-az-4/
LOCATION:Webinar
CATEGORIES:Arizona Broker Events
ORGANIZER;CN="eternalHealth":MAILTO:info@eternalhealth.com
END:VEVENT
BEGIN:VEVENT
DTSTART;TZID=America/Phoenix:20240808T080000
DTEND;TZID=America/Phoenix:20240808T090000
DTSTAMP:20260422T124100
CREATED:20240701T155731Z
LAST-MODIFIED:20240701T155731Z
UID:10000518-1723104000-1723107600@www.eternalhealth.com
SUMMARY:eternalHealth Certification Training 2025
DESCRIPTION:Learn how to become Ready to Sell with eternalHealth for 2025 using our Certification Portal\n\n\n\n  \n\n\n\nJoin the meeting now 
URL:https://www.eternalhealth.com/calendar/eternalhealth-certification-training-2025-11/
LOCATION:Webinar
CATEGORIES:Arizona Broker Events
ORGANIZER;CN="eternalHealth":MAILTO:info@eternalhealth.com
END:VEVENT
BEGIN:VEVENT
DTSTART;TZID=America/Phoenix:20240806T090000
DTEND;TZID=America/Phoenix:20240806T100000
DTSTAMP:20260422T124100
CREATED:20240701T155552Z
LAST-MODIFIED:20240701T155552Z
UID:10000517-1722934800-1722938400@www.eternalhealth.com
SUMMARY:Virtual First Look 2025 - AZ
DESCRIPTION:Get your First Look into eternalHealth’s competitive 2025 Plan Benefits\n\n\n\n  \n\n\n\nJoin the meeting now 
URL:https://www.eternalhealth.com/calendar/virtual-first-look-2025-az-3/
LOCATION:Webinar
CATEGORIES:Arizona Broker Events
ORGANIZER;CN="eternalHealth":MAILTO:info@eternalhealth.com
END:VEVENT
BEGIN:VEVENT
DTSTART;TZID=America/Phoenix:20240801T140000
DTEND;TZID=America/Phoenix:20240801T150000
DTSTAMP:20260422T124100
CREATED:20240701T155225Z
LAST-MODIFIED:20240701T155225Z
UID:10000516-1722520800-1722524400@www.eternalhealth.com
SUMMARY:eternalHealth Certification Training 2025
DESCRIPTION:Learn how to become Ready to Sell with eternalHealth for 2025 using our Certification Portal\n\n\n\n  \n\n\n\nJoin the meeting now 
URL:https://www.eternalhealth.com/calendar/eternalhealth-certification-training-2025-10/
LOCATION:Webinar
CATEGORIES:Arizona Broker Events
ORGANIZER;CN="eternalHealth":MAILTO:info@eternalhealth.com
END:VEVENT
BEGIN:VEVENT
DTSTART;TZID=UTC:20240731T130000
DTEND;TZID=UTC:20240731T150000
DTSTAMP:20260422T124100
CREATED:20240626T142530Z
LAST-MODIFIED:20240626T143125Z
UID:10000489-1722430800-1722438000@www.eternalhealth.com
SUMMARY:Broker First Look- July 31\, 2024 - Culinary Dropout (Tucson)
DESCRIPTION:Brokers! You are invited to an exclusive first look at eternalHealth’s exciting benefits for 2025! Join us for an afternoon of education and excitement at Culinary Dropout in Tucson! \n  \nLunch is included! \n  \nSpace is limited so RSVP today! See you there!
URL:https://www.eternalhealth.com/calendar/broker-first-look-july-31-2024-culinary-dropout-tucson/
LOCATION:Culinary Dropout Tucson\, 2543 E Grant Rd\, Tucson\, AZ\, 85716
CATEGORIES:Arizona Broker Events
ORGANIZER;CN="eternalHealth":MAILTO:info@eternalhealth.com
END:VEVENT
BEGIN:VEVENT
DTSTART;TZID=America/Phoenix:20240731T083000
DTEND;TZID=America/Phoenix:20240731T093000
DTSTAMP:20260422T124100
CREATED:20240701T154912Z
LAST-MODIFIED:20240701T154912Z
UID:10000513-1722414600-1722418200@www.eternalhealth.com
SUMMARY:eternalHealth Broker Resources
DESCRIPTION:Learn how to:\n– Look up Dotctor\n– Prescriptions\n– Application Status\n– Commission\n– Submit Electronic Enrollments\n– Order Enrollment Kits\n– Marketing Materials\n– and MORE\n\n\n\n  \n\n\n\nJoin the meeting now 
URL:https://www.eternalhealth.com/calendar/eternalhealth-broker-resources-2/
LOCATION:Webinar
CATEGORIES:Arizona Broker Events
ORGANIZER;CN="eternalHealth":MAILTO:info@eternalhealth.com
END:VEVENT
BEGIN:VEVENT
DTSTART;TZID=America/Phoenix:20240729T120000
DTEND;TZID=America/Phoenix:20240729T130000
DTSTAMP:20260422T124100
CREATED:20240701T154506Z
LAST-MODIFIED:20240701T154506Z
UID:10000512-1722254400-1722258000@www.eternalhealth.com
SUMMARY:Virtual First Look 2025 - AZ
DESCRIPTION:Get your First Look into eternalHealth’s competitive 2025 Plan Benefits\n\n\n\n  \n\n\n\nJoin the meeting now 
URL:https://www.eternalhealth.com/calendar/virtual-first-look-2025-az-2/
LOCATION:Webinar
CATEGORIES:Arizona Broker Events
ORGANIZER;CN="eternalHealth":MAILTO:info@eternalhealth.com
END:VEVENT
BEGIN:VEVENT
DTSTART;TZID=America/Phoenix:20240729T070000
DTEND;TZID=America/Phoenix:20240729T080000
DTSTAMP:20260422T124100
CREATED:20240701T154158Z
LAST-MODIFIED:20240701T154253Z
UID:10000510-1722236400-1722240000@www.eternalhealth.com
SUMMARY:eternalHealth Certification Training 2025
DESCRIPTION:Learn how to become Ready to Sell with eternalHealth for 2025 using our Certification Portal\n\n\n\n  \n\n\n\nJoin the meeting now
URL:https://www.eternalhealth.com/calendar/eternalhealth-certification-training-2025-7/
LOCATION:Webinar
CATEGORIES:Arizona Broker Events
ORGANIZER;CN="eternalHealth":MAILTO:info@eternalhealth.com
END:VEVENT
BEGIN:VEVENT
DTSTART;TZID=America/Phoenix:20240724T100000
DTEND;TZID=America/Phoenix:20240724T110000
DTSTAMP:20260422T124100
CREATED:20240701T153835Z
LAST-MODIFIED:20240701T153835Z
UID:10000508-1721815200-1721818800@www.eternalhealth.com
SUMMARY:Low-Income Subsidy Training
DESCRIPTION:Come learn about eternalHealth’s Horizon plan and why it’s a great fit for your clients with LIS\n\n\n\n  \n\n\n\nJoin the meeting now 
URL:https://www.eternalhealth.com/calendar/low-income-subsidy-training-3/
LOCATION:Webinar
CATEGORIES:Arizona Broker Events
ORGANIZER;CN="eternalHealth":MAILTO:info@eternalhealth.com
END:VEVENT
BEGIN:VEVENT
DTSTART;TZID=America/Phoenix:20240723T080000
DTEND;TZID=America/Phoenix:20240723T090000
DTSTAMP:20260422T124100
CREATED:20240701T152636Z
LAST-MODIFIED:20240701T152636Z
UID:10000506-1721721600-1721725200@www.eternalhealth.com
SUMMARY:eternalHealth Certification Training 2025
DESCRIPTION:Learn how to become Ready to Sell with eternalHealth for 2025 using our Certification Portal\n\n\n\n  \n\n\n\nJoin the meeting now 
URL:https://www.eternalhealth.com/calendar/eternalhealth-certification-training-2025-5/
LOCATION:Webinar
CATEGORIES:Arizona Broker Events
ORGANIZER;CN="eternalHealth":MAILTO:info@eternalhealth.com
END:VEVENT
BEGIN:VEVENT
DTSTART;TZID=America/Phoenix:20240719T100000
DTEND;TZID=America/Phoenix:20240719T110000
DTSTAMP:20260422T124100
CREATED:20240701T151719Z
LAST-MODIFIED:20240701T151719Z
UID:10000504-1721383200-1721386800@www.eternalhealth.com
SUMMARY:Virtual First Look 2025 - AZ
DESCRIPTION:Get your First Look into eternalHealth’s competitive 2025 Plan Benefits\n\n\n\n  \n\n\n\nJoin the meeting now 
URL:https://www.eternalhealth.com/calendar/virtual-first-look-2025-az/
LOCATION:Webinar
CATEGORIES:Arizona Broker Events
ORGANIZER;CN="eternalHealth":MAILTO:info@eternalhealth.com
END:VEVENT
BEGIN:VEVENT
DTSTART;TZID=America/Phoenix:20240717T130000
DTEND;TZID=America/Phoenix:20240717T140000
DTSTAMP:20260422T124100
CREATED:20240701T150946Z
LAST-MODIFIED:20240701T150946Z
UID:10000503-1721221200-1721224800@www.eternalhealth.com
SUMMARY:eternalHealth Broker Resources
DESCRIPTION:Learn how to:\n– Look up Dotctor\n– Prescriptions\n– Application Status\n– Commission\n– Submit Electronic Enrollments\n– Order Enrollment Kits\n– Marketing Materials\n– and MORE\n\n\n\n\n\n\nJoin the meeting now\n\n\n\n 
URL:https://www.eternalhealth.com/calendar/eternalhealth-broker-resources/
LOCATION:Webinar
CATEGORIES:Arizona Broker Events
ORGANIZER;CN="eternalHealth":MAILTO:info@eternalhealth.com
END:VEVENT
BEGIN:VEVENT
DTSTART;TZID=UTC:20240717T110000
DTEND;TZID=UTC:20240717T130000
DTSTAMP:20260422T124100
CREATED:20240626T143050Z
LAST-MODIFIED:20240626T143316Z
UID:10000490-1721214000-1721221200@www.eternalhealth.com
SUMMARY:Broker First Look- July 17\, 2024 - Culinary Dropout (Tempe)
DESCRIPTION:Brokers! You are invited to an exclusive first look at eternalHealth’s exciting benefits for 2025! Join us for an afternoon of education and excitement at Culinary Dropout in Tempe! \nLunch is included! \nSpace is limited so RSVP today! See you there!
URL:https://www.eternalhealth.com/calendar/broker-first-look-july-17-2024-culinary-dropout-tempe/
LOCATION:Culinary Dropout Tempe\, 149 S Farmer Avenue\, Tempe\, AZ\, 85281
CATEGORIES:Arizona Broker Events
ORGANIZER;CN="eternalHealth":MAILTO:info@eternalhealth.com
END:VEVENT
BEGIN:VEVENT
DTSTART;TZID=America/Phoenix:20240715T083000
DTEND;TZID=America/Phoenix:20240715T093000
DTSTAMP:20260422T124100
CREATED:20240701T150409Z
LAST-MODIFIED:20240701T150627Z
UID:10000501-1721032200-1721035800@www.eternalhealth.com
SUMMARY:eternalHealth Certification Training 2025
DESCRIPTION:Learn how to become Ready to Sell with eternalHealth for 2025 using our Certification Portal\n\n\n\n  \n  \n\n\n\nJoin the meeting now 
URL:https://www.eternalhealth.com/calendar/eternalhealth-certification-training-2025-4/
LOCATION:Webinar
CATEGORIES:Arizona Broker Events
ORGANIZER;CN="eternalHealth":MAILTO:info@eternalhealth.com
END:VEVENT
BEGIN:VEVENT
DTSTART;TZID=America/New_York:20240711T110000
DTEND;TZID=America/New_York:20240711T120000
DTSTAMP:20260422T124100
CREATED:20240628T175617Z
LAST-MODIFIED:20240628T175617Z
UID:10000498-1720695600-1720699200@www.eternalhealth.com
SUMMARY:eternalHealth Certification Training 2025
DESCRIPTION:Learn how to become Ready to Sell with eternalHealth for 2025 using our Certification Portal\n\n\n\n  \n\n\n\nJoin the meeting now 
URL:https://www.eternalhealth.com/calendar/eternalhealth-certification-training-2025-3/
LOCATION:Webinar
CATEGORIES:Arizona Broker Events
ORGANIZER;CN="eternalHealth":MAILTO:info@eternalhealth.com
END:VEVENT
BEGIN:VEVENT
DTSTART;TZID=America/Phoenix:20240711T080000
DTEND;TZID=America/Phoenix:20240711T090000
DTSTAMP:20260422T124100
CREATED:20240628T175440Z
LAST-MODIFIED:20240628T175548Z
UID:10000497-1720684800-1720688400@www.eternalhealth.com
SUMMARY:eternalHealth Certification Training 2025
DESCRIPTION:Learn how to become Ready to Sell with eternalHealth for 2025 using our Certification Portal\n\n\n\n  \n\n\n\nJoin the meeting now 
URL:https://www.eternalhealth.com/calendar/eternalhealth-certification-training-2025-2/
LOCATION:Webinar
CATEGORIES:Arizona Broker Events
ORGANIZER;CN="eternalHealth":MAILTO:info@eternalhealth.com
END:VEVENT
BEGIN:VEVENT
DTSTART;TZID=America/Phoenix:20240709T130000
DTEND;TZID=America/Phoenix:20240709T140000
DTSTAMP:20260422T124100
CREATED:20240628T173041Z
LAST-MODIFIED:20240708T140309Z
UID:10000492-1720530000-1720533600@www.eternalhealth.com
SUMMARY:eternalHealth Certification Training 2025
DESCRIPTION:Learn how to become Ready to Sell with eternalHealth for 2025 using our Certification Portal\n\n\n\n  \n\n\n\nJoin the meeting now \n\n\n\n 
URL:https://www.eternalhealth.com/calendar/low-income-subsidy-training-2/
LOCATION:Webinar
CATEGORIES:Arizona Broker Events
ORGANIZER;CN="eternalHealth":MAILTO:info@eternalhealth.com
END:VEVENT
BEGIN:VEVENT
DTSTART;TZID=UTC:20240702T083000
DTEND;TZID=UTC:20240702T093000
DTSTAMP:20260422T124100
CREATED:20240628T171947Z
LAST-MODIFIED:20240628T172303Z
UID:10000491-1719909000-1719912600@www.eternalhealth.com
SUMMARY:Low-Income Subsidy Training
DESCRIPTION:Come learn about eternalHealth’s Horizon plan and why it’s a great fit for your clients with LIS!\n\n\n\n  \n\n\n\nJoin the meeting now 
URL:https://www.eternalhealth.com/calendar/low-income-subsidy-training/
LOCATION:Webinar
CATEGORIES:Arizona Broker Events
ORGANIZER;CN="eternalHealth":MAILTO:info@eternalhealth.com
END:VEVENT
END:VCALENDAR