BEGIN:VCALENDAR
VERSION:2.0
PRODID:-//eternalHealth - ECPv6.15.17.1//NONSGML v1.0//EN
CALSCALE:GREGORIAN
METHOD:PUBLISH
X-ORIGINAL-URL:https://www.eternalhealth.com
X-WR-CALDESC:Events for eternalHealth
REFRESH-INTERVAL;VALUE=DURATION:PT1H
X-Robots-Tag:noindex
X-PUBLISHED-TTL:PT1H
BEGIN:VTIMEZONE
TZID:UTC
BEGIN:STANDARD
TZOFFSETFROM:+0000
TZOFFSETTO:+0000
TZNAME:UTC
DTSTART:20220101T000000
END:STANDARD
END:VTIMEZONE
BEGIN:VEVENT
DTSTART;TZID=UTC:20231014T080000
DTEND;TZID=UTC:20231014T100000
DTSTAMP:20260423T030018
CREATED:20231006T215640Z
LAST-MODIFIED:20231013T004944Z
UID:10000420-1697270400-1697277600@www.eternalhealth.com
SUMMARY:Medicare 101 at AZ Cardiology Peoria- October 14\, 2023
DESCRIPTION:Feel confident when enrolling into a Medicare Advantage plan!  Join us to learn more about: • Medicare Parts A\, B\, C\, and D • Original Medicare vs. Medicare Advantage • Eligibility • Enrollment Periods\, and more!
URL:https://www.eternalhealth.com/calendar/medicare-101-at-az-cardiology-peoria-october-14-2023/
LOCATION:AZ Cardiology Peoria\, 13943 N. 91st Avenue Suite A-101\, Peoria\, AZ\, 85381\, United States
CATEGORIES:Arizona Events
ORGANIZER;CN="eternalHealth":MAILTO:info@eternalhealth.com
END:VEVENT
BEGIN:VEVENT
DTSTART;TZID=UTC:20230914T080000
DTEND;TZID=UTC:20230914T170000
DTSTAMP:20260423T030018
CREATED:20230914T182206Z
LAST-MODIFIED:20231030T152223Z
UID:10000367-1694678400-1694710800@www.eternalhealth.com
SUMMARY:Sales Seminar at Denny's- Phoenix\, AZ- November 16\, 2023
DESCRIPTION:RSVP TODAY! Space is Limited! \nWhen it comes to Medicare\, you have options! Join the eternalHealth team and get all the information you need to better understand your healthcare options for 2024. Licensed experts will be available to answer any questions you may have\, because when it comes to your health\, nothing should be uncertain. Join us to learn more about the basics of Medicare versus Medicare Advantage\, your coverage options with eternalHealth\, how to take steps to enroll\, and much more!
URL:https://www.eternalhealth.com/calendar/sales-seminar-at-dennys-phoenix-az-november-16-2023/
LOCATION:Virtual Seminar- Osteoporosis – March 1\, 2023\, MA
CATEGORIES:Arizona Events
ORGANIZER;CN="eternalHealth":MAILTO:info@eternalhealth.com
END:VEVENT
END:VCALENDAR