BEGIN:VCALENDAR
VERSION:2.0
PRODID:-//eternalHealth - ECPv6.15.17.1//NONSGML v1.0//EN
CALSCALE:GREGORIAN
METHOD:PUBLISH
X-ORIGINAL-URL:https://www.eternalhealth.com
X-WR-CALDESC:Events for eternalHealth
REFRESH-INTERVAL;VALUE=DURATION:PT1H
X-Robots-Tag:noindex
X-PUBLISHED-TTL:PT1H
BEGIN:VTIMEZONE
TZID:UTC
BEGIN:STANDARD
TZOFFSETFROM:+0000
TZOFFSETTO:+0000
TZNAME:UTC
DTSTART:20220101T000000
END:STANDARD
END:VTIMEZONE
BEGIN:VEVENT
DTSTART;TZID=UTC:20240510T130000
DTEND;TZID=UTC:20240517T140000
DTSTAMP:20260422T114125
CREATED:20240409T160650Z
LAST-MODIFIED:20240424T152744Z
UID:10000471-1715346000-1715954400@www.eternalhealth.com
SUMMARY:Mental Health Awareness Month Webinar - May 17\, 2024 ONLINE 1PM-2PM EST
DESCRIPTION:PLEASE NOTE: Start time will be in EST \n1PM-2PM EST/10AM-11AM MST \nJoin eternalHealth & Emily McDonough\, LCSW for a webinar on tips to increase your mental health\, learn new coping strategies\, and more! RSVP today to claim your spot! \nNote: Zoom link will be provided to you prior to beginning of the webinar. Please include email address in your RSVP \n 
URL:https://www.eternalhealth.com/calendar/mental-health-awareness-month-webinar-may-10-2024-online-1pm-2pm-est/
LOCATION:Online\, MA\, United States
CATEGORIES:Arizona Events,Massachusetts Events
ORGANIZER;CN="eternalHealth":MAILTO:info@eternalhealth.com
END:VEVENT
BEGIN:VEVENT
DTSTART;TZID=UTC:20240509T180000
DTEND;TZID=UTC:20240509T200000
DTSTAMP:20260422T114125
CREATED:20240415T152338Z
LAST-MODIFIED:20240415T152338Z
UID:10000473-1715277600-1715284800@www.eternalhealth.com
SUMMARY:Medicare 101 at Whites of Westport- Westport\, MA May 9th\, 2024
DESCRIPTION:When it comes to Medicare\, you have options! Join the eternalHealth team and get all the information you need to better understand your healthcare options for 2024. Licensed experts will be available to answer any questions you may have\, because when it comes to your health\, nothing should be uncertain. Join us to learn more about the basics of Medicare versus Medicare Advantage\, Part D coverage\, how to take steps to enroll\, and much more! Space is limited\, so RSVP today! \n*No eternalHealth benefits will be discussed during this presentation
URL:https://www.eternalhealth.com/calendar/medicare-101-at-whites-of-westport-westport-ma-may-9th-2024/
LOCATION:White’s of Westport\, 66 State Rd\, Westport\, MA\, 02719\, United States
CATEGORIES:Massachusetts Events
ORGANIZER;CN="eternalHealth":MAILTO:info@eternalhealth.com
END:VEVENT
BEGIN:VEVENT
DTSTART;TZID=UTC:20240428T120000
DTEND;TZID=UTC:20240428T170000
DTSTAMP:20260422T114125
CREATED:20240415T150158Z
LAST-MODIFIED:20240415T150158Z
UID:10000472-1714305600-1714323600@www.eternalhealth.com
SUMMARY:IAGB's Senior Expo- Billerica\, MA April 28\, 2024
DESCRIPTION:Come meet the eternalHealth team at the India Association of Greater Boston’s Senior Expo at Billerica Town Hall! Licensed Medicare specialists will be available to answer all of your questions!
URL:https://www.eternalhealth.com/calendar/iagbs-senior-expo-billerica-ma-april-28-2024/
LOCATION:Billerica Town Hall\, 365 BOSTON RD\, Billerica\, MA\, 01821\, United States
CATEGORIES:Massachusetts Events
ORGANIZER;CN="eternalHealth":MAILTO:info@eternalhealth.com
END:VEVENT
BEGIN:VEVENT
DTSTART;TZID=UTC:20240425T180000
DTEND;TZID=UTC:20240425T200000
DTSTAMP:20260422T114125
CREATED:20240314T175056Z
LAST-MODIFIED:20240325T150321Z
UID:10000465-1714068000-1714075200@www.eternalhealth.com
SUMMARY:Medicare 101 at Olive Garden- Framingham April 25th\, 2024
DESCRIPTION:RSVP today to receive your $15 Gas Gift Card! \nWhen it comes to Medicare\, you have options! Join the eternalHealth team and get all the information you need to better understand your healthcare options for 2024. Licensed experts will be available to answer any questions you may have\, because when it comes to your health\, nothing should be uncertain. Join us to learn more about the basics of Medicare versus Medicare Advantage\, Part D coverage\, how to take steps to enroll\, and much more! Space is limited\, so RSVP today! \n*No eternalHealth benefits will be discussed during this presentation
URL:https://www.eternalhealth.com/calendar/medicare-101-at-olive-garden-framingham-april-25th-2024/
LOCATION:Framingham Olive Garden\, 1 Worcester Rd\, Framingham\, MA\, 01701\, United States
CATEGORIES:Massachusetts Events
END:VEVENT
BEGIN:VEVENT
DTSTART;TZID=UTC:20240424T180000
DTEND;TZID=UTC:20240424T200000
DTSTAMP:20260422T114125
CREATED:20240325T150340Z
LAST-MODIFIED:20240325T150340Z
UID:10000469-1713981600-1713988800@www.eternalhealth.com
SUMMARY:Medicare 101 at Olive Garden- Foxborough April 24th\, 2024
DESCRIPTION:RSVP today to receive your $15 Gas Gift Card! \nWhen it comes to Medicare\, you have options! Join the eternalHealth team and get all the information you need to better understand your healthcare options for 2024. Licensed experts will be available to answer any questions you may have\, because when it comes to your health\, nothing should be uncertain. Join us to learn more about the basics of Medicare versus Medicare Advantage\, Part D coverage\, how to take steps to enroll\, and much more! Space is limited\, so RSVP today! \n*No eternalHealth benefits will be discussed during this presentation
URL:https://www.eternalhealth.com/calendar/medicare-101-at-olive-garden-foxborough-april-24th-2024-2/
LOCATION:Foxborough Olive Garden\, 392 Patriot Place\, Foxborough\, MA\, 02035\, United States
CATEGORIES:Massachusetts Events
END:VEVENT
BEGIN:VEVENT
DTSTART;TZID=UTC:20240305T100000
DTEND;TZID=UTC:20240305T130000
DTSTAMP:20260422T114125
CREATED:20240205T224421Z
LAST-MODIFIED:20240207T163048Z
UID:10000452-1709632800-1709643600@www.eternalhealth.com
SUMMARY:eternalHealth Member Appreciation Event- New Bedford\, MA
DESCRIPTION:eternalHealth wants to celebrate you! Join us for an exclusive members only appreciation event! \n\n\n\nGet to know the eternalHealth team\nAsk our experts any questions about your plan\nLearn how to maximize your benefits\nEngage in a fun activity\nEnjoy some light refreshments\nAnd more!\n\n  \n\nRSVP Today!
URL:https://www.eternalhealth.com/calendar/eternalhealth-member-appreciation-events-newton-2/
LOCATION:Fairfield Inn & Suites New Bedford\, 185 MacArthur Dr\, New Bedford\, MA\, 02740\, United States
CATEGORIES:Massachusetts Events
ORGANIZER;CN="eternalHealth":MAILTO:info@eternalhealth.com
END:VEVENT
BEGIN:VEVENT
DTSTART;TZID=UTC:20240304T100000
DTEND;TZID=UTC:20240304T130000
DTSTAMP:20260422T114125
CREATED:20240205T224136Z
LAST-MODIFIED:20240206T142350Z
UID:10000451-1709546400-1709557200@www.eternalhealth.com
SUMMARY:eternalHealth Member Appreciation Events- Newton
DESCRIPTION:eternalHealth wants to celebrate you! Join us for an exclusive members only appreciation event! \n\n\n\nGet to know the eternalHealth team\nAsk our experts any questions about your plan\nLearn how to maximize your benefits\nEngage in a fun activity\nEnjoy some light refreshments\nAnd more!\n\n  \n\nRSVP Today!
URL:https://www.eternalhealth.com/calendar/eternalhealth-member-appreciation-events-newton/
LOCATION:Newton Four Points Sheraton\, 320 Washington Street\, Newton\, MA\, 02458\, United States
CATEGORIES:Massachusetts Events
ORGANIZER;CN="eternalHealth":MAILTO:info@eternalhealth.com
END:VEVENT
BEGIN:VEVENT
DTSTART;TZID=UTC:20240224T140000
DTEND;TZID=UTC:20240224T160000
DTSTAMP:20260422T114125
CREATED:20240209T204741Z
LAST-MODIFIED:20240209T204828Z
UID:10000459-1708783200-1708790400@www.eternalhealth.com
SUMMARY:Medicare 101 at India Society of Worcester- February 24\, 2024- Shrewsbury\, MA
DESCRIPTION:When it comes to Medicare\, you have options! Join the eternalHealth team and get all the information you need to better understand your healthcare options for 2024. Licensed experts will be available to answer any questions you may have\, because when it comes to your health\, nothing should be uncertain. Join us to learn more about the basics of Medicare versus Medicare Advantage\, Part D coverage\, how to take steps to enroll\, and much more! Space is limited\, so RSVP today!
URL:https://www.eternalhealth.com/calendar/medicare-101-at-india-society-of-worcester-february-24-2024-shrewsbury-ma/
LOCATION:India Society of Worcester\, 152 Main St.\, Shrewsbury\, MA\, United States
CATEGORIES:Massachusetts Events
END:VEVENT
BEGIN:VEVENT
DTSTART;TZID=UTC:20231214T103000
DTEND;TZID=UTC:20231214T113000
DTSTAMP:20260422T114125
CREATED:20230814T182809Z
LAST-MODIFIED:20240628T172416Z
UID:10000318-1702549800-1702553400@www.eternalhealth.com
SUMMARY:Seminar on Long Term Side Effects of Covid-19 at Paxton Senior Center- December 14\, 2023
DESCRIPTION:Join eternalHealth’s Chief Medical Officer Dr. Chandra Lingisetty as he explains the after effects of the COVID-19 pandemic\, and ways that you can keep yourself safe and healthy!
URL:https://www.eternalhealth.com/calendar/seminar-on-long-term-side-effects-of-covid-19/
LOCATION:Paxton Senior Center\, 19 West St\, Paxton\, MA\, 01612\, United States
CATEGORIES:Massachusetts Events,Member's Events
ORGANIZER;CN="eternalHealth":MAILTO:info@eternalhealth.com
END:VEVENT
BEGIN:VEVENT
DTSTART;TZID=UTC:20231201T130000
DTEND;TZID=UTC:20231201T150000
DTSTAMP:20260422T114125
CREATED:20231013T143707Z
LAST-MODIFIED:20231030T175455Z
UID:10000438-1701435600-1701442800@www.eternalhealth.com
SUMMARY:Sales Seminar at Hawthorn Medical Associates- December 1\, 2023
DESCRIPTION:This event is free\, with no obligation to enroll. \nAttendees will enjoy light refreshments. \nJoin us at Hawthorn Medical Associates for a comprehensive Medicare Seminar designed to empower you with knowledge about enrolling in a Medicare Advantage Plan. \nAt the seminar\, you’ll gain valuable insights into: \n\nMedicare Parts A\, B\, C\, and D\nUnderstanding the differences between Original Medicare and Medicare Advantage\nLearning more about eligibility criteria and enrollment periods\nExciting benefits offered by eternalHealth\nAnd more!\n\nDon’t miss this opportunity to make informed decisions about your Medicare coverage. We look forward to seeing you there!
URL:https://www.eternalhealth.com/calendar/sales-seminar-at-hawthorn-medical-associates-december-1-2023/
LOCATION:Hawthorn Medical Associates\, 535 Faunce Corner Rd\, Dartmouth\, MA\, 02747\, United States
CATEGORIES:Massachusetts Events
ORGANIZER;CN="eternalHealth":MAILTO:info@eternalhealth.com
END:VEVENT
BEGIN:VEVENT
DTSTART;TZID=UTC:20231117T160000
DTEND;TZID=UTC:20231117T180000
DTSTAMP:20260422T114125
CREATED:20231013T143606Z
LAST-MODIFIED:20231030T132245Z
UID:10000437-1700236800-1700244000@www.eternalhealth.com
SUMMARY:Sales Seminar at Hawthorn Medical Associates- November 17\, 2023
DESCRIPTION:This event is free\, with no obligation to enroll. \nAttendees will enjoy light refreshments. \nJoin us at Hawthorn Medical Associates for a comprehensive Medicare Seminar designed to empower you with knowledge about enrolling in a Medicare Advantage Plan. \nAt the seminar\, you’ll gain valuable insights into: \n\nMedicare Parts A\, B\, C\, and D\nUnderstanding the differences between Original Medicare and Medicare Advantage\nLearning more about eligibility criteria and enrollment periods\nExciting benefits offered by eternalHealth\nAnd more!\n\nDon’t miss this opportunity to make informed decisions about your Medicare coverage. We look forward to seeing you there!
URL:https://www.eternalhealth.com/calendar/sales-seminar-at-hawthorn-medical-associates-november-17-2023/
LOCATION:Hawthorn Medical Associates\, 535 Faunce Corner Rd\, Dartmouth\, MA\, 02747\, United States
CATEGORIES:Massachusetts Events
ORGANIZER;CN="eternalHealth":MAILTO:info@eternalhealth.com
END:VEVENT
BEGIN:VEVENT
DTSTART;TZID=UTC:20231116T180000
DTEND;TZID=UTC:20231116T200000
DTSTAMP:20260422T114125
CREATED:20230914T162138Z
LAST-MODIFIED:20231030T152310Z
UID:10000331-1700157600-1700164800@www.eternalhealth.com
SUMMARY:Sales Seminar at Whites's of Westport - November 16\, 2023
DESCRIPTION:RSVP TODAY! Space is Limited! \nWhen it comes to Medicare\, you have options! Join the eternalHealth team and get all the information you need to better understand your healthcare options for 2024. Licensed experts will be available to answer any questions you may have\, because when it comes to your health\, nothing should be uncertain. Join us to learn more about the basics of Medicare versus Medicare Advantage\, your coverage options with eternalHealth\, how to take steps to enroll\, and much more!
URL:https://www.eternalhealth.com/calendar/sales-seminar-at-whitess-of-westport-november-16-2023/
LOCATION:White’s of Westport\, 66 State Rd\, Westport\, MA\, 02719\, United States
CATEGORIES:Massachusetts Events
ORGANIZER;CN="eternalHealth":MAILTO:info@eternalhealth.com
END:VEVENT
BEGIN:VEVENT
DTSTART;TZID=UTC:20231115T110000
DTEND;TZID=UTC:20231115T120000
DTSTAMP:20260422T114125
CREATED:20230914T161217Z
LAST-MODIFIED:20231030T152702Z
UID:10000330-1700046000-1700049600@www.eternalhealth.com
SUMMARY:Table Event at Medford Senior Center- November 15\, 2023
DESCRIPTION:Come meet the eternalHealth team at the Medford Senior Center! \n 
URL:https://www.eternalhealth.com/calendar/table-event-at-medford-senior-center-november-15-2023/
LOCATION:Medford Senior Center\, 101 Riverside Ave\, Medford\, MA\, 02155\, United States
CATEGORIES:Massachusetts Events
ORGANIZER;CN="eternalHealth":MAILTO:info@eternalhealth.com
END:VEVENT
BEGIN:VEVENT
DTSTART;TZID=UTC:20231114T100000
DTEND;TZID=UTC:20231114T120000
DTSTAMP:20260422T114125
CREATED:20231024T190050Z
LAST-MODIFIED:20231030T152338Z
UID:10000446-1699956000-1699963200@www.eternalhealth.com
SUMMARY:Sales Seminar at Whites's of Westport - November 14\, 2023
DESCRIPTION:RSVP TODAY! Space is Limited! \nWhen it comes to Medicare\, you have options! Join the eternalHealth team and get all the information you need to better understand your healthcare options for 2024. Licensed experts will be available to answer any questions you may have\, because when it comes to your health\, nothing should be uncertain. Join us to learn more about the basics of Medicare versus Medicare Advantage\, your coverage options with eternalHealth\, how to take steps to enroll\, and much more!
URL:https://www.eternalhealth.com/calendar/sales-seminar-at-whitess-of-westport-november-14-2023/
LOCATION:White’s of Westport\, 66 State Rd\, Westport\, MA\, 02719\, United States
CATEGORIES:Massachusetts Events
ORGANIZER;CN="eternalHealth":MAILTO:info@eternalhealth.com
END:VEVENT
BEGIN:VEVENT
DTSTART;TZID=UTC:20231110T130000
DTEND;TZID=UTC:20231110T150000
DTSTAMP:20260422T114125
CREATED:20231004T205650Z
LAST-MODIFIED:20231024T185257Z
UID:10000417-1699621200-1699628400@www.eternalhealth.com
SUMMARY:Sales Seminar at Hawthorne Medical Associates- November 10\, 2023
DESCRIPTION:RSVP TODAY! Space is Limited! \nWhen it comes to Medicare\, you have options! Join the eternalHealth team and get all the information you need to better understand your healthcare options for 2024. Licensed experts will be available to answer any questions you may have\, because when it comes to your health\, nothing should be uncertain. Join us to learn more about the basics of Medicare versus Medicare Advantage\, your coverage options with eternalHealth\, how to take steps to enroll\, and much more! \n  \nLocation: Head into building 535\, walk past the lobby desk to the elevators on the right. Take the elevator down to LL. Once the doors open\, the conference room will be directly across from the elevators marked “CONFERENCE CENTER”.
URL:https://www.eternalhealth.com/calendar/sales-seminar-at-hawthorne-medical-associates/
LOCATION:Hawthorn Medical Associates\, 535 Faunce Corner Rd\, Dartmouth\, MA\, 02747\, United States
CATEGORIES:Massachusetts Events
ORGANIZER;CN="eternalHealth":MAILTO:info@eternalhealth.com
END:VEVENT
BEGIN:VEVENT
DTSTART;TZID=UTC:20231106T180000
DTEND;TZID=UTC:20231106T200000
DTSTAMP:20260422T114125
CREATED:20231024T185209Z
LAST-MODIFIED:20231030T152349Z
UID:10000445-1699293600-1699300800@www.eternalhealth.com
SUMMARY:Sales Seminar at Whites's of Westport - November 6\, 2023
DESCRIPTION:RSVP TODAY! Space is Limited! \nWhen it comes to Medicare\, you have options! Join the eternalHealth team and get all the information you need to better understand your healthcare options for 2024. Licensed experts will be available to answer any questions you may have\, because when it comes to your health\, nothing should be uncertain. Join us to learn more about the basics of Medicare versus Medicare Advantage\, your coverage options with eternalHealth\, how to take steps to enroll\, and much more!
URL:https://www.eternalhealth.com/calendar/sales-seminar-at-whitess-of-westport-november-6-2023-2/
LOCATION:White’s of Westport\, 66 State Rd\, Westport\, MA\, 02719\, United States
CATEGORIES:Massachusetts Events
ORGANIZER;CN="eternalHealth":MAILTO:info@eternalhealth.com
END:VEVENT
BEGIN:VEVENT
DTSTART;TZID=UTC:20231106T090000
DTEND;TZID=UTC:20231106T110000
DTSTAMP:20260422T114125
CREATED:20230914T160611Z
LAST-MODIFIED:20231030T152402Z
UID:10000329-1699261200-1699268400@www.eternalhealth.com
SUMMARY:Sales Seminar at Hampton Inn & Suites\, Worcester MA- November 6\, 2023
DESCRIPTION:RSVP TODAY! Space is Limited!\n\n\n\nWhen it comes to Medicare\, you have options! Join the eternalHealth team and get all the information you need to better understand your healthcare options for 2024. Licensed experts will be available to answer any questions you may have\, because when it comes to your health\, nothing should be uncertain. Join us to learn more about the basics of Medicare versus Medicare Advantage\, your coverage options with eternalHealth\, how to take steps to enroll\, and much more!
URL:https://www.eternalhealth.com/calendar/sales-seminar-at-hampton-inn-suites-worcester-ma-november-6-2023/
LOCATION:Hampton Inn & Suites Worcester\, 65 Prescott St\, Worcester\, MA\, 01605
CATEGORIES:Massachusetts Events
ORGANIZER;CN="eternalHealth":MAILTO:info@eternalhealth.com
END:VEVENT
BEGIN:VEVENT
DTSTART;TZID=UTC:20231101T140000
DTEND;TZID=UTC:20231101T150000
DTSTAMP:20260422T114125
CREATED:20230914T155738Z
LAST-MODIFIED:20231030T152412Z
UID:10000327-1698847200-1698850800@www.eternalhealth.com
SUMMARY:Sales Seminar at Watertown Senior Center - November 1\, 2023
DESCRIPTION:RSVP TODAY! Space is Limited! \nWhen it comes to Medicare\, you have options! Join the eternalHealth team and get all the information you need to better understand your healthcare options for 2024. Licensed experts will be available to answer any questions you may have\, because when it comes to your health\, nothing should be uncertain. Join us to learn more about the basics of Medicare versus Medicare Advantage\, your coverage options with eternalHealth\, how to take steps to enroll\, and much more!
URL:https://www.eternalhealth.com/calendar/sales-seminar-at-watertown-senior-center-november-1-2023/
LOCATION:Watertown Council On Aging\, 31 Marshall St\, Watertown\, MA\, 02472\, United States
CATEGORIES:Massachusetts Events
ORGANIZER;CN="eternalHealth":MAILTO:info@eternalhealth.com
END:VEVENT
BEGIN:VEVENT
DTSTART;TZID=UTC:20231025T100000
DTEND;TZID=UTC:20231025T120000
DTSTAMP:20260422T114125
CREATED:20230914T155310Z
LAST-MODIFIED:20231030T152423Z
UID:10000326-1698228000-1698235200@www.eternalhealth.com
SUMMARY:Sales Seminar at Whites's of Westport- October 25\, 2023
DESCRIPTION:RSVP TODAY! Space is Limited! \nWhen it comes to Medicare\, you have options! Join the eternalHealth team and get all the information you need to better understand your healthcare options for 2024. Licensed experts will be available to answer any questions you may have\, because when it comes to your health\, nothing should be uncertain. Join us to learn more about the basics of Medicare versus Medicare Advantage\, your coverage options with eternalHealth\, how to take steps to enroll\, and much more!
URL:https://www.eternalhealth.com/calendar/sales-seminar-at-whitess-of-westport/
LOCATION:White’s of Westport\, 66 State Rd\, Westport\, MA\, 02719\, United States
CATEGORIES:Massachusetts Events
ORGANIZER;CN="eternalHealth":MAILTO:info@eternalhealth.com
END:VEVENT
BEGIN:VEVENT
DTSTART;TZID=UTC:20231024T110000
DTEND;TZID=UTC:20231024T130000
DTSTAMP:20260422T114125
CREATED:20230814T181443Z
LAST-MODIFIED:20231030T152714Z
UID:10000317-1698145200-1698152400@www.eternalhealth.com
SUMMARY:Table Event at Dedham Health and Wellness Fair
DESCRIPTION:Stop by and meet the eternalHealth team at the Dedham Health and Wellness Fair!
URL:https://www.eternalhealth.com/calendar/table-event-at-dedham-health-and-wellness-fair/
LOCATION:Dedham Council on Aging\, 450 Washington St\, Dedham\, MA\, 02026\, United States
CATEGORIES:Massachusetts Events,Member's Events
ORGANIZER;CN="eternalHealth":MAILTO:info@eternalhealth.com
END:VEVENT
BEGIN:VEVENT
DTSTART;TZID=UTC:20231020T103000
DTEND;TZID=UTC:20231020T113000
DTSTAMP:20260422T114125
CREATED:20230914T150559Z
LAST-MODIFIED:20231030T152438Z
UID:10000325-1697797800-1697801400@www.eternalhealth.com
SUMMARY:Medicare 101 at Quincy Elder Services- October 20\,2023
DESCRIPTION:When it comes to Medicare\, you have options! Join the eternalHealth team and get all the information you need to better understand your healthcare options for 2024. Licensed experts will be available to answer any questions you may have\, because when it comes to your health\, nothing should be uncertain. Join us to learn more about the basics of Medicare versus Medicare Advantage\, Part D coverage\, how to take steps to enroll\, and much more! Space is limited\, so RSVP today!
URL:https://www.eternalhealth.com/calendar/medicare-101-at-quincy-elder-services/
LOCATION:Quincy Elder Services\, 440 E Squantum St\, Quincy\, MA\, 02171\, United States
CATEGORIES:Massachusetts Events
ORGANIZER;CN="eternalHealth":MAILTO:info@eternalhealth.com
END:VEVENT
BEGIN:VEVENT
DTSTART;TZID=UTC:20231019T180000
DTEND;TZID=UTC:20231019T200000
DTSTAMP:20260422T114125
CREATED:20230914T143241Z
LAST-MODIFIED:20231030T152449Z
UID:10000323-1697738400-1697745600@www.eternalhealth.com
SUMMARY:Sales Seminar at Four Points By Sheraton\, Norwood\, MA- October 19\, 2023
DESCRIPTION:RSVP Today! Space is Limited! \nWhen it comes to Medicare\, you have options! Join the eternalHealth team and get all the information you need to better understand your healthcare options for 2023. Licensed experts will be available to answer any questions you may have\, because when it comes to your health\, nothing should be uncertain. Join us to learn more about the basics of Medicare versus Medicare Advantage\, your coverage options with eternalHealth\, how to take steps to enroll\, and much more!
URL:https://www.eternalhealth.com/calendar/sales-seminar-at-four-points-by-sherato-norwood-ma-october-19-2023/
LOCATION:Four Points by Sheraton- Norwood\, 1125 Boston Providence Turnpike\, Norwood\, MA\, 02062\, United States
CATEGORIES:Massachusetts Events
ORGANIZER;CN="eternalHealth":MAILTO:info@eternalhealth.com
END:VEVENT
BEGIN:VEVENT
DTSTART;TZID=UTC:20231019T180000
DTEND;TZID=UTC:20231019T200000
DTSTAMP:20260422T114125
CREATED:20230914T142511Z
LAST-MODIFIED:20231030T152501Z
UID:10000322-1697738400-1697745600@www.eternalhealth.com
SUMMARY:Sales Seminar at Hampton Inn & Suites\, Worcester MA- October 19\, 2023
DESCRIPTION:When it comes to Medicare\, you have options! Join the eternalHealth team and get all the information you need to better understand your healthcare options for 2024. Licensed experts will be available to answer any questions you may have\, because when it comes to your health\, nothing should be uncertain. Join us to learn more about the basics of Medicare versus Medicare Advantage\, your coverage options with eternalHealth\, how to take steps to enroll\, and much more!
URL:https://www.eternalhealth.com/calendar/sales-seminar-at-hampton-inn-suites-worcester-ma-october-19-2023/
LOCATION:Hampton Inn & Suites Worcester\, 65 Prescott St\, Worcester\, MA\, 01605
CATEGORIES:Massachusetts Events
ORGANIZER;CN="eternalHealth":MAILTO:info@eternalhealth.com
END:VEVENT
BEGIN:VEVENT
DTSTART;TZID=UTC:20231019T100000
DTEND;TZID=UTC:20231019T130000
DTSTAMP:20260422T114125
CREATED:20230914T145054Z
LAST-MODIFIED:20231030T152512Z
UID:10000324-1697709600-1697720400@www.eternalhealth.com
SUMMARY:Health Fair at Athol Senior Center - October 19\, 2023
DESCRIPTION:Come out and meet the eternalHealth team at the Athol Senior Center Health Fair!
URL:https://www.eternalhealth.com/calendar/health-fair-at-athol-senior-center-october-19-2023/
LOCATION:Athol Health Fair\, 1062 Pleasant St.\, Athol\, MA\, 01331\, United States
CATEGORIES:Massachusetts Events
ORGANIZER;CN="eternalHealth":MAILTO:info@eternalhealth.com
END:VEVENT
BEGIN:VEVENT
DTSTART;TZID=UTC:20231018T110000
DTEND;TZID=UTC:20231018T120000
DTSTAMP:20260422T114125
CREATED:20230914T135516Z
LAST-MODIFIED:20231030T152522Z
UID:10000321-1697626800-1697630400@www.eternalhealth.com
SUMMARY:Sales Seminar at Medford Senior Center - October 18\, 2023
DESCRIPTION:RSVP TODAY! Space is Limited! \nWhen it comes to Medicare\, you have options! Join the eternalHealth team and get all the information you need to better understand your healthcare options for 2024. Licensed experts will be available to answer any questions you may have\, because when it comes to your health\, nothing should be uncertain. Join us to learn more about the basics of Medicare versus Medicare Advantage\, your coverage options with eternalHealth\, how to take steps to enroll\, and much more!
URL:https://www.eternalhealth.com/calendar/sales-seminar-at-medford-senior-center-october-18-2023/
LOCATION:Medford Senior Center\, 101 Riverside Ave\, Medford\, MA\, 02155\, United States
CATEGORIES:Massachusetts Events
ORGANIZER;CN="eternalHealth":MAILTO:info@eternalhealth.com
END:VEVENT
BEGIN:VEVENT
DTSTART;TZID=UTC:20231015T083000
DTEND;TZID=UTC:20231015T150000
DTSTAMP:20260422T114125
CREATED:20230329T171624Z
LAST-MODIFIED:20231030T152724Z
UID:10000295-1697358600-1697382000@www.eternalhealth.com
SUMMARY:2023 Walk to End Alzheimer's- October 15\, 2023
DESCRIPTION:eternalHealth is proud to be once again sponsoring the Walk to End Alzheimer’s event in Boston! Come on down to the DCR North Point Park in Cambridge to say hello to the eternalHealth team and support such an important cause!
URL:https://www.eternalhealth.com/calendar/2023-walk-to-end-alzheimers-october-15-2023-2/
LOCATION:DCR North Point Park\, 6 Museum Way\, Cambridge\, MA\, 02141\, United States
CATEGORIES:Massachusetts Events,Member's Events
ORGANIZER;CN="eternalHealth":MAILTO:info@eternalhealth.com
END:VEVENT
BEGIN:VEVENT
DTSTART;TZID=UTC:20231006T180000
DTEND;TZID=UTC:20231006T200000
DTSTAMP:20260422T114125
CREATED:20230914T160339Z
LAST-MODIFIED:20231030T152533Z
UID:10000328-1696615200-1696622400@www.eternalhealth.com
SUMMARY:Sales Seminar at Whites’s of Westport- November 6\, 2023
DESCRIPTION:RSVP TODAY! Space is Limited! \nWhen it comes to Medicare\, you have options! Join the eternalHealth team and get all the information you need to better understand your healthcare options for 2024. Licensed experts will be available to answer any questions you may have\, because when it comes to your health\, nothing should be uncertain. Join us to learn more about the basics of Medicare versus Medicare Advantage\, your coverage options with eternalHealth\, how to take steps to enroll\, and much more!
URL:https://www.eternalhealth.com/calendar/sales-seminar-at-whitess-of-westport-november-6-2023/
LOCATION:Model-Coverage-Determination-Request-Form_Jan2019v508_eH_2023-1-1
CATEGORIES:Massachusetts Events
ORGANIZER;CN="eternalHealth":MAILTO:info@eternalhealth.com
END:VEVENT
BEGIN:VEVENT
DTSTART;TZID=UTC:20231004T100000
DTEND;TZID=UTC:20231004T160000
DTSTAMP:20260422T114125
CREATED:20230914T133934Z
LAST-MODIFIED:20231030T152746Z
UID:10000319-1696413600-1696435200@www.eternalhealth.com
SUMMARY:Health Fair at Gardner Senior Center- October 4\, 2024
DESCRIPTION:Come out and meet the eternalHealth team at the Gardner Senior Center’s Health Fair!
URL:https://www.eternalhealth.com/calendar/health-fair-at-gardner-senior-center-october-4-2024/
LOCATION:MA
CATEGORIES:Massachusetts Events
ORGANIZER;CN="eternalHealth":MAILTO:info@eternalhealth.com
END:VEVENT
END:VCALENDAR