BEGIN:VCALENDAR
VERSION:2.0
PRODID:-//eternalHealth - ECPv6.15.17.1//NONSGML v1.0//EN
CALSCALE:GREGORIAN
METHOD:PUBLISH
X-WR-CALNAME:eternalHealth
X-ORIGINAL-URL:https://www.eternalhealth.com
X-WR-CALDESC:Events for eternalHealth
REFRESH-INTERVAL;VALUE=DURATION:PT1H
X-Robots-Tag:noindex
X-PUBLISHED-TTL:PT1H
BEGIN:VTIMEZONE
TZID:UTC
BEGIN:STANDARD
TZOFFSETFROM:+0000
TZOFFSETTO:+0000
TZNAME:UTC
DTSTART:20230101T000000
END:STANDARD
END:VTIMEZONE
BEGIN:VEVENT
DTSTART;TZID=UTC:20250930T140000
DTEND;TZID=UTC:20250930T160000
DTSTAMP:20260422T094824
CREATED:20250714T140910Z
LAST-MODIFIED:20250714T141214Z
UID:10000860-1759240800-1759248000@www.eternalhealth.com
SUMMARY:Sales Seminar at Dunkin - Norwood - September 30\, 2025
DESCRIPTION:RSVP Today! Space is Limited! \nWhen it comes to Medicare\, you have options! Join the eternalHealth team and get all the information you need to better understand your healthcare options for 2025. Licensed experts will be available to answer any questions you may have\, because when it comes to your health\, nothing should be uncertain. \nJoin us to learn more about the basics of Medicare versus Medicare Advantage\, your coverage options with eternalHealth\, how to take steps to enroll\, and much more!
URL:https://www.eternalhealth.com/calendar/sales-seminar-at-dunkin-norwood-september-30-2025/
LOCATION:Dunkin Norwood\, 1202 Providence Highway\, Norwood\, MA\, 02062\, United States
CATEGORIES:Massachusetts Events
END:VEVENT
BEGIN:VEVENT
DTSTART;TZID=UTC:20250812T140000
DTEND;TZID=UTC:20250812T160000
DTSTAMP:20260422T094824
CREATED:20250714T140621Z
LAST-MODIFIED:20250714T140621Z
UID:10000859-1755007200-1755014400@www.eternalhealth.com
SUMMARY:Sales Seminar at Dunkin - Norwood - August 12\, 2025
DESCRIPTION:RSVP Today! Space is Limited! \nWhen it comes to Medicare\, you have options! Join the eternalHealth team and get all the information you need to better understand your healthcare options for 2025. Licensed experts will be available to answer any questions you may have\, because when it comes to your health\, nothing should be uncertain. \nJoin us to learn more about the basics of Medicare versus Medicare Advantage\, your coverage options with eternalHealth\, how to take steps to enroll\, and much more!
URL:https://www.eternalhealth.com/calendar/sales-seminar-at-dunkin-norwood-august-12-2025/
LOCATION:Dunkin Norwood\, 1202 Providence Highway\, Norwood\, MA\, 02062\, United States
CATEGORIES:Massachusetts Events
END:VEVENT
BEGIN:VEVENT
DTSTART;TZID=UTC:20241007T140000
DTEND;TZID=UTC:20241007T160000
DTSTAMP:20260422T094824
CREATED:20241001T180839Z
LAST-MODIFIED:20241001T180839Z
UID:10000610-1728309600-1728316800@www.eternalhealth.com
SUMMARY:Sales Seminar at Dunkin - Norwood - October 7\, 2024
DESCRIPTION:RSVP Today! Space is Limited! \nWhen it comes to Medicare\, you have options! Join the eternalHealth team and get all the information you need to better understand your healthcare options for 2025. Licensed experts will be available to answer any questions you may have\, because when it comes to your health\, nothing should be uncertain. \nJoin us to learn more about the basics of Medicare versus Medicare Advantage\, your coverage options with eternalHealth\, how to take steps to enroll\, and much more!
URL:https://www.eternalhealth.com/calendar/sales-seminar-at-dunkin-norwood-october-7-2024/
LOCATION:Dunkin Norwood\, 1202 Providence Highway\, Norwood\, MA\, 02062\, United States
CATEGORIES:Massachusetts Events
END:VEVENT
END:VCALENDAR