BEGIN:VCALENDAR
VERSION:2.0
PRODID:-//eternalHealth - ECPv6.15.17.1//NONSGML v1.0//EN
CALSCALE:GREGORIAN
METHOD:PUBLISH
X-WR-CALNAME:eternalHealth
X-ORIGINAL-URL:https://www.eternalhealth.com
X-WR-CALDESC:Events for eternalHealth
REFRESH-INTERVAL;VALUE=DURATION:PT1H
X-Robots-Tag:noindex
X-PUBLISHED-TTL:PT1H
BEGIN:VTIMEZONE
TZID:UTC
BEGIN:STANDARD
TZOFFSETFROM:+0000
TZOFFSETTO:+0000
TZNAME:UTC
DTSTART:20240101T000000
END:STANDARD
END:VTIMEZONE
BEGIN:VEVENT
DTSTART;TZID=UTC:20251031T080000
DTEND;TZID=UTC:20251031T130000
DTSTAMP:20260420T195458
CREATED:20250917T151417Z
LAST-MODIFIED:20250917T151417Z
UID:10000874-1761897600-1761915600@www.eternalhealth.com
SUMMARY:eternalHealth at the Kroger Health Team Tune Up Event
DESCRIPTION:etenralHealth is excited to participate in the Kroger Health Team Tune Up event at the new Fry’s Grand Opening! Stop by our table to learn about Medicare options and get answers to your healthcare coverage questions. \nEvent Details: \n\nWhen: October 31st from 8:00 AM to 1:00 PM\nWhere: Fry’s Food Stores Grand Opening\, 16371 W Cactus Rd\, Surprise\, AZ\nWhat: Free flu shots\, health screenings\, and Medicare education\n\nThis community health event offers convenient access to important preventive care services\, including flu vaccinations and various health screenings. Our eternalHealth representatives will be on-site with educational materials and education on Medicare. \nWhether you’re new to Medicare or looking to better understand the basics\, our knowledgeable team is here to help. Drop by our table anytime during the event – no appointment necessary! \nWe look forward to seeing you there and supporting our Surprise community’s health and wellness.
URL:https://www.eternalhealth.com/calendar/eternalhealth-at-the-kroger-health-team-tune-up-event/
LOCATION:Fry’s Food Store\, 16371 W Cactus Rd\, Surprise\, AZ\, 85388
CATEGORIES:Arizona Events
ORGANIZER;CN="eternalHealth":MAILTO:info@eternalhealth.com
END:VEVENT
END:VCALENDAR