BEGIN:VCALENDAR
VERSION:2.0
PRODID:-//eternalHealth - ECPv6.15.17.1//NONSGML v1.0//EN
CALSCALE:GREGORIAN
METHOD:PUBLISH
X-ORIGINAL-URL:https://www.eternalhealth.com
X-WR-CALDESC:Events for eternalHealth
REFRESH-INTERVAL;VALUE=DURATION:PT1H
X-Robots-Tag:noindex
X-PUBLISHED-TTL:PT1H
BEGIN:VTIMEZONE
TZID:UTC
BEGIN:STANDARD
TZOFFSETFROM:+0000
TZOFFSETTO:+0000
TZNAME:UTC
DTSTART:20220101T000000
END:STANDARD
END:VTIMEZONE
BEGIN:VEVENT
DTSTART;TZID=UTC:20230306T100000
DTEND;TZID=UTC:20230306T120000
DTSTAMP:20260421T141214
CREATED:20230301T151629Z
LAST-MODIFIED:20230301T151629Z
UID:10000210-1678096800-1678104000@www.eternalhealth.com
SUMMARY:Sales Seminar at Hampton Inn Worcester- March 6
DESCRIPTION:When it comes to Medicare\, you have options! Join the eternalHealth team and get all the information you need to better understand your healthcare options for 2023. Licensed experts will be available to answer any questions you may have\, because when it comes to your health\, nothing should be uncertain. Join us to learn more about the basics of Medicare versus Medicare Advantage\, your coverage options with eternalHealth\, how to take steps to enroll\, and much more!
URL:https://www.eternalhealth.com/calendar/sales-seminar-at-hampton-inn-worcester-march-6/
LOCATION:Hampton Inn & Suites Worcester\, 65 Prescott St\, Worcester\, MA\, 01605
ORGANIZER;CN="eternalHealth":MAILTO:info@eternalhealth.com
END:VEVENT
BEGIN:VEVENT
DTSTART;TZID=UTC:20230306T100000
DTEND;TZID=UTC:20230306T120000
DTSTAMP:20260421T141214
CREATED:20230301T151629Z
LAST-MODIFIED:20230301T151629Z
UID:10000275-1678096800-1678104000@www.eternalhealth.com
SUMMARY:Sales Seminar at Hampton Inn Worcester- March 6
DESCRIPTION:When it comes to Medicare\, you have options! Join the eternalHealth team and get all the information you need to better understand your healthcare options for 2023. Licensed experts will be available to answer any questions you may have\, because when it comes to your health\, nothing should be uncertain. Join us to learn more about the basics of Medicare versus Medicare Advantage\, your coverage options with eternalHealth\, how to take steps to enroll\, and much more!
URL:https://www.eternalhealth.com/calendar/sales-seminar-at-hampton-inn-worcester-march-6-2/
LOCATION:Hampton Inn & Suites Worcester\, 65 Prescott St\, Worcester\, MA\, 01605
ORGANIZER;CN="eternalHealth":MAILTO:info@eternalhealth.com
END:VEVENT
END:VCALENDAR