BEGIN:VCALENDAR
VERSION:2.0
PRODID:-//eternalHealth - ECPv6.15.17.1//NONSGML v1.0//EN
CALSCALE:GREGORIAN
METHOD:PUBLISH
X-ORIGINAL-URL:https://www.eternalhealth.com
X-WR-CALDESC:Events for eternalHealth
REFRESH-INTERVAL;VALUE=DURATION:PT1H
X-Robots-Tag:noindex
X-PUBLISHED-TTL:PT1H
BEGIN:VTIMEZONE
TZID:UTC
BEGIN:STANDARD
TZOFFSETFROM:+0000
TZOFFSETTO:+0000
TZNAME:UTC
DTSTART:20220101T000000
END:STANDARD
END:VTIMEZONE
BEGIN:VEVENT
DTSTART;TZID=UTC:20241026T130000
DTEND;TZID=UTC:20241026T140000
DTSTAMP:20260421T101517
CREATED:20241015T162505Z
LAST-MODIFIED:20241015T162505Z
UID:10000628-1729947600-1729951200@www.eternalhealth.com
SUMMARY:Sales Seminar at India Society of Worcester - Shrewsbury- October 26\, 2024
DESCRIPTION:RSVP Today! Space is Limited! \nWhen it comes to Medicare\, you have options! Join the eternalHealth team and get all the information you need to better understand your healthcare options for 2025. Licensed experts will be available to answer any questions you may have\, because when it comes to your health\, nothing should be uncertain. \nJoin us to learn more about the basics of Medicare versus Medicare Advantage\, your coverage options with eternalHealth\, how to take steps to enroll\, and much more!
URL:https://www.eternalhealth.com/calendar/sales-seminar-at-india-society-of-worcester-shrewsbury-october-26-2024/
LOCATION:India Society of Worcester\, 152 Main St.\, Shrewsbury\, MA\, United States
CATEGORIES:Massachusetts Events
END:VEVENT
BEGIN:VEVENT
DTSTART;TZID=UTC:20240224T140000
DTEND;TZID=UTC:20240224T160000
DTSTAMP:20260421T101517
CREATED:20240209T204741Z
LAST-MODIFIED:20240209T204828Z
UID:10000459-1708783200-1708790400@www.eternalhealth.com
SUMMARY:Medicare 101 at India Society of Worcester- February 24\, 2024- Shrewsbury\, MA
DESCRIPTION:When it comes to Medicare\, you have options! Join the eternalHealth team and get all the information you need to better understand your healthcare options for 2024. Licensed experts will be available to answer any questions you may have\, because when it comes to your health\, nothing should be uncertain. Join us to learn more about the basics of Medicare versus Medicare Advantage\, Part D coverage\, how to take steps to enroll\, and much more! Space is limited\, so RSVP today!
URL:https://www.eternalhealth.com/calendar/medicare-101-at-india-society-of-worcester-february-24-2024-shrewsbury-ma/
LOCATION:India Society of Worcester\, 152 Main St.\, Shrewsbury\, MA\, United States
CATEGORIES:Massachusetts Events
END:VEVENT
BEGIN:VEVENT
DTSTART;TZID=UTC:20230325T130000
DTEND;TZID=UTC:20230325T160000
DTSTAMP:20260421T101517
CREATED:20230321T133603Z
LAST-MODIFIED:20230321T154258Z
UID:10000219-1679749200-1679760000@www.eternalhealth.com
SUMMARY:Table Event at ISW Shrewsbury- March 25\, 2023
DESCRIPTION:Stop by and meet the eternalHealth team at the India Society of Worcester in Shrewsbury!
URL:https://www.eternalhealth.com/calendar/table-event-at-isw-shrewsbury/
LOCATION:India Society of Worcester\, 152 Main St.\, Shrewsbury\, MA\, United States
ORGANIZER;CN="eternalHealth":MAILTO:info@eternalhealth.com
END:VEVENT
BEGIN:VEVENT
DTSTART;TZID=UTC:20230325T130000
DTEND;TZID=UTC:20230325T160000
DTSTAMP:20260421T101517
CREATED:20230321T133603Z
LAST-MODIFIED:20230321T133603Z
UID:10000284-1679749200-1679760000@www.eternalhealth.com
SUMMARY:Table Event at ISW Shrewsbury- March 25\, 2023
DESCRIPTION:Stop by and meet the eternalHealth team at the India Society of Worcester in Shrewsbury!
URL:https://www.eternalhealth.com/calendar/table-event-at-isw-shrewsbury-2/
LOCATION:India Society of Worcester\, 152 Main St.\, Shrewsbury\, MA\, United States
ORGANIZER;CN="eternalHealth":MAILTO:info@eternalhealth.com
END:VEVENT
END:VCALENDAR