BEGIN:VCALENDAR
VERSION:2.0
PRODID:-//eternalHealth - ECPv6.15.17.1//NONSGML v1.0//EN
CALSCALE:GREGORIAN
METHOD:PUBLISH
X-ORIGINAL-URL:https://www.eternalhealth.com
X-WR-CALDESC:Events for eternalHealth
REFRESH-INTERVAL;VALUE=DURATION:PT1H
X-Robots-Tag:noindex
X-PUBLISHED-TTL:PT1H
BEGIN:VTIMEZONE
TZID:UTC
BEGIN:STANDARD
TZOFFSETFROM:+0000
TZOFFSETTO:+0000
TZNAME:UTC
DTSTART:20220101T000000
END:STANDARD
END:VTIMEZONE
BEGIN:VEVENT
DTSTART;TZID=UTC:20230221T130000
DTEND;TZID=UTC:20230221T140000
DTSTAMP:20260422T123738
CREATED:20230113T200059Z
LAST-MODIFIED:20230113T200059Z
UID:10000252-1676984400-1676988000@www.eternalhealth.com
SUMMARY:Virtual Seminar- Coping with Depression and Anxiety - February 21\, 2023
DESCRIPTION:According to the Kaiser Family Foundation\, as many as 1 in 4 older adults report experiencing depression and/or anxiety regularly. If this is something you or a loved one can relate to you are not alone! Join Licensed Clinical Social Worker Emily McDonough for a virtual session focused on learning how to identify depression and anxiety and healthy ways of coping. \nZoom link will be emailed\, so please ensure your email is included in your RSVP
URL:https://www.eternalhealth.com/calendar/virtual-seminar-coping-with-depression-and-anxiety-2/
LOCATION:Online\, MA\, United States
CATEGORIES:Member's Events
ORGANIZER;CN="eternalHealth":MAILTO:info@eternalhealth.com
END:VEVENT
BEGIN:VEVENT
DTSTART;TZID=UTC:20230208T130000
DTEND;TZID=UTC:20230208T140000
DTSTAMP:20260422T123738
CREATED:20230113T211108Z
LAST-MODIFIED:20230113T211108Z
UID:10000258-1675861200-1675864800@www.eternalhealth.com
SUMMARY:Virtual Seminar- Prediabetes and Diabetes - February 8\, 2023
DESCRIPTION:Diabetes among adults in Massachusetts is increasing at an alarming rate. Every other adult Massachusetts resident would have something to do with diabetes\, whether they are diagnosed or undiagnosed or pre-diabetics! (Almost 9% of adults in Massachusetts have diabetes and about 150\,000 more have undiagnosed diabetes\, and about 32% of adults have Pre–Diabetes). Diabetes is the leading cause of kidney failure\, nontraumatic lower-limb amputations\, and blindness among adults. Those with diabetes are twice likely to have heart disease or a stroke as those without diabetes. The best way to prevent diabetes or manage diabetes is to work with a multi-disciplinary medical team.\n\nZoom link will be emailed to attendees\, so please ensure your email is included in your RSVP
URL:https://www.eternalhealth.com/calendar/virtual-seminar-prediabetes-and-diabetes-2/
LOCATION:Online\, MA\, United States
CATEGORIES:Member's Events
ORGANIZER;CN="eternalHealth":MAILTO:info@eternalhealth.com
END:VEVENT
BEGIN:VEVENT
DTSTART;TZID=UTC:20230208T130000
DTEND;TZID=UTC:20230208T140000
DTSTAMP:20260422T123738
CREATED:20230113T211108Z
LAST-MODIFIED:20230119T194423Z
UID:10000193-1675861200-1675864800@www.eternalhealth.com
SUMMARY:Virtual Seminar- Prediabetes and Diabetes - February 8\, 2023
DESCRIPTION:Diabetes among adults in Massachusetts is increasing at an alarming rate. Every other adult Massachusetts resident would have something to do with diabetes\, whether they are diagnosed or undiagnosed or pre-diabetics! (Almost 9% of adults in Massachusetts have diabetes and about 150\,000 more have undiagnosed diabetes\, and about 32% of adults have Pre–Diabetes). Diabetes is the leading cause of kidney failure\, nontraumatic lower-limb amputations\, and blindness among adults. Those with diabetes are twice likely to have heart disease or a stroke as those without diabetes. The best way to prevent diabetes or manage diabetes is to work with a multi-disciplinary medical team.\n\nZoom link will be emailed to attendees\, so please ensure your email is included in your RSVP
URL:https://www.eternalhealth.com/calendar/virtual-seminar-prediabetes-and-diabetes/
LOCATION:Online\, MA\, United States
CATEGORIES:Member's Events
ORGANIZER;CN="eternalHealth":MAILTO:info@eternalhealth.com
END:VEVENT
END:VCALENDAR