BEGIN:VCALENDAR
VERSION:2.0
PRODID:-//eternalHealth - ECPv6.15.17.1//NONSGML v1.0//EN
CALSCALE:GREGORIAN
METHOD:PUBLISH
X-WR-CALNAME:eternalHealth
X-ORIGINAL-URL:https://www.eternalhealth.com
X-WR-CALDESC:Events for eternalHealth
REFRESH-INTERVAL;VALUE=DURATION:PT1H
X-Robots-Tag:noindex
X-PUBLISHED-TTL:PT1H
BEGIN:VTIMEZONE
TZID:UTC
BEGIN:STANDARD
TZOFFSETFROM:+0000
TZOFFSETTO:+0000
TZNAME:UTC
DTSTART:20230101T000000
END:STANDARD
END:VTIMEZONE
BEGIN:VEVENT
DTSTART;TZID=UTC:20241111T140000
DTEND;TZID=UTC:20241111T160000
DTSTAMP:20260421T100722
CREATED:20241015T165136Z
LAST-MODIFIED:20241015T165136Z
UID:10000631-1731333600-1731340800@www.eternalhealth.com
SUMMARY:Sales Seminar at Panera Bread- Plainville- November 11\, 2024
DESCRIPTION:RSVP Today! Space is Limited! \nWhen it comes to Medicare\, you have options! Join the eternalHealth team and get all the information you need to better understand your healthcare options for 2025. Licensed experts will be available to answer any questions you may have\, because when it comes to your health\, nothing should be uncertain. \nJoin us to learn more about the basics of Medicare versus Medicare Advantage\, your coverage options with eternalHealth\, how to take steps to enroll\, and much more!
URL:https://www.eternalhealth.com/calendar/sales-seminar-at-panera-bread-plainville-november-11-2024/
LOCATION:Panera Bread Plainville\, 103 Taunton St\, Plainville\, MA\, 02762\, United States
CATEGORIES:Massachusetts Events
END:VEVENT
BEGIN:VEVENT
DTSTART;TZID=UTC:20241010T140000
DTEND;TZID=UTC:20241010T160000
DTSTAMP:20260421T100722
CREATED:20241001T181016Z
LAST-MODIFIED:20241001T181016Z
UID:10000611-1728568800-1728576000@www.eternalhealth.com
SUMMARY:Sales Seminar at Dunkin - Plainville- October 10\, 2024
DESCRIPTION:RSVP Today! Space is Limited! \nWhen it comes to Medicare\, you have options! Join the eternalHealth team and get all the information you need to better understand your healthcare options for 2025. Licensed experts will be available to answer any questions you may have\, because when it comes to your health\, nothing should be uncertain. \nJoin us to learn more about the basics of Medicare versus Medicare Advantage\, your coverage options with eternalHealth\, how to take steps to enroll\, and much more!
URL:https://www.eternalhealth.com/calendar/sales-seminar-at-dunkin-plainville-october-10-2024/
LOCATION:Panera Bread Plainville\, 103 Taunton St\, Plainville\, MA\, 02762\, United States
CATEGORIES:Massachusetts Events
END:VEVENT
END:VCALENDAR