BEGIN:VCALENDAR
VERSION:2.0
PRODID:-//eternalHealth - ECPv6.15.20//NONSGML v1.0//EN
CALSCALE:GREGORIAN
METHOD:PUBLISH
X-ORIGINAL-URL:https://www.eternalhealth.com
X-WR-CALDESC:Events for eternalHealth
REFRESH-INTERVAL;VALUE=DURATION:PT1H
X-Robots-Tag:noindex
X-PUBLISHED-TTL:PT1H
BEGIN:VTIMEZONE
TZID:UTC
BEGIN:STANDARD
TZOFFSETFROM:+0000
TZOFFSETTO:+0000
TZNAME:UTC
DTSTART:20220101T000000
END:STANDARD
END:VTIMEZONE
BEGIN:VEVENT
DTSTART;TZID=UTC:20230207T110000
DTEND;TZID=UTC:20230207T130000
DTSTAMP:20260420T084021
CREATED:20221229T154659Z
LAST-MODIFIED:20230119T194511Z
UID:10000171-1675767600-1675774800@www.eternalhealth.com
SUMMARY:Medicare 101 at Shrewsbury IHOP - February 7\, 2023
DESCRIPTION:When it comes to Medicare\, you have options! Join the eternalHealth team and get all the information you need to better understand your healthcare options for 2023. Licensed experts will be available to answer any questions you may have\, because when it comes to your health\, nothing should be uncertain. Join us to learn more about the basics of Medicare versus Medicare Advantage\, Part D coverage\, how to take steps to enroll\, and much more! \nSpace is limited\, so RSVP today! \n  \n  \n\nLunch will be provided!\neternalHealth Medicare Advantage benefits will not be discussed.
URL:https://www.eternalhealth.com/calendar/medicare-101-at-shrewsbury-ihop/
LOCATION:Shrewsbury IHOP\, 70 Boston Turnpike\, Shrewsbury\, MA\, 01545\, United States
ORGANIZER;CN="eternalHealth":MAILTO:info@eternalhealth.com
END:VEVENT
BEGIN:VEVENT
DTSTART;TZID=UTC:20230207T110000
DTEND;TZID=UTC:20230207T130000
DTSTAMP:20260420T084021
CREATED:20221229T154659Z
LAST-MODIFIED:20221229T154659Z
UID:10000241-1675767600-1675774800@www.eternalhealth.com
SUMMARY:Medicare 101 at Shrewsbury IHOP - February 7\, 2023
DESCRIPTION:When it comes to Medicare\, you have options! Join the eternalHealth team and get all the information you need to better understand your healthcare options for 2023. Licensed experts will be available to answer any questions you may have\, because when it comes to your health\, nothing should be uncertain. Join us to learn more about the basics of Medicare versus Medicare Advantage\, Part D coverage\, how to take steps to enroll\, and much more! \nSpace is limited\, so RSVP today! \n  \n  \n\nLunch will be provided!\neternalHealth Medicare Advantage benefits will not be discussed.
URL:https://www.eternalhealth.com/calendar/medicare-101-at-shrewsbury-ihop-2/
LOCATION:Shrewsbury IHOP\, 70 Boston Turnpike\, Shrewsbury\, MA\, 01545\, United States
ORGANIZER;CN="eternalHealth":MAILTO:info@eternalhealth.com
END:VEVENT
END:VCALENDAR