BEGIN:VCALENDAR
VERSION:2.0
PRODID:-//eternalHealth - ECPv6.15.17.1//NONSGML v1.0//EN
CALSCALE:GREGORIAN
METHOD:PUBLISH
X-ORIGINAL-URL:https://www.eternalhealth.com
X-WR-CALDESC:Events for eternalHealth
REFRESH-INTERVAL;VALUE=DURATION:PT1H
X-Robots-Tag:noindex
X-PUBLISHED-TTL:PT1H
BEGIN:VTIMEZONE
TZID:UTC
BEGIN:STANDARD
TZOFFSETFROM:+0000
TZOFFSETTO:+0000
TZNAME:UTC
DTSTART:20240101T000000
END:STANDARD
END:VTIMEZONE
BEGIN:VEVENT
DTSTART;TZID=UTC:20251024T160000
DTEND;TZID=UTC:20251024T180000
DTSTAMP:20260422T083033
CREATED:20250924T013127Z
LAST-MODIFIED:20250924T013127Z
UID:10000916-1761321600-1761328800@www.eternalhealth.com
SUMMARY:Sales Seminar at Village Inn\, Surprise\, AZ - October 24\, 2025
DESCRIPTION:🚨 RSVP Today! Limited Seating Available! 🚨 \nTurn Medicare Confusion Into Confident Choices \nTired of feeling overwhelmed by Medicare options? Ready to discover how eternalHealth can save you money while improving your coverage? Join us for an informative presentation where you’ll learn exactly how our plans stack up against your current options. \nWhat You’ll Learn: \n\nMedicare vs. Medicare Advantage – Which option could save you the most money\neternalHealth’s Competitive Advantages – Exclusive benefits you won’t find elsewhere\nReal Cost Comparisons – See potential savings based on your current plan\nEnrollment Made Simple – We’ll walk you through the entire process\nSpecial Enrollment Incentives – Limited-time offers for attendees only
URL:https://www.eternalhealth.com/calendar/sales-seminar-at-village-inn-surprise-az-october-24-2025/
LOCATION:Village Inn\, 14539 W Grand Ave\, Surprise\, AZ\, United States
CATEGORIES:Arizona Events
ORGANIZER;CN="eternalHealth":MAILTO:info@eternalhealth.com
END:VEVENT
BEGIN:VEVENT
DTSTART;TZID=UTC:20251017T160000
DTEND;TZID=UTC:20251017T180000
DTSTAMP:20260422T083033
CREATED:20250924T013017Z
LAST-MODIFIED:20250924T013255Z
UID:10000915-1760716800-1760724000@www.eternalhealth.com
SUMMARY:Sales Seminar at Village Inn\, Surprise\, AZ - October 17\, 2025
DESCRIPTION:🚨 RSVP Today! Limited Seating Available! 🚨 \nTurn Medicare Confusion Into Confident Choices \nTired of feeling overwhelmed by Medicare options? Ready to discover how eternalHealth can save you money while improving your coverage? Join us for an informative presentation where you’ll learn exactly how our plans stack up against your current options. \nWhat You’ll Learn: \n\nMedicare vs. Medicare Advantage – Which option could save you the most money\neternalHealth’s Competitive Advantages – Exclusive benefits you won’t find elsewhere\nReal Cost Comparisons – See potential savings based on your current plan\nEnrollment Made Simple – We’ll walk you through the entire process\nSpecial Enrollment Incentives – Limited-time offers for attendees only
URL:https://www.eternalhealth.com/calendar/sales-seminar-at-village-inn-surprise-az-october-17-2025/
LOCATION:Village Inn\, 14539 W Grand Ave\, Surprise\, AZ\, United States
CATEGORIES:Arizona Events
ORGANIZER;CN="eternalHealth":MAILTO:info@eternalhealth.com
END:VEVENT
END:VCALENDAR